BEGIN:VCALENDAR
VERSION:2.0
PRODID:https://BeTTV.tischtennislive.de
METHOD:PUBLISH
X-WR-CALNAME:TischtennisLive-Spieltermine
X-WR-TIMEZONE:Europe/Berlin
BEGIN:VEVENT
UID: W4S_96_989538
ORGANIZER;CN="Patricia Standke":MAILTO:NoReply@TischtennisLive.de
SUMMARY:SV Lichtenberg 47 4 - SV Blau-Weiß Petershagen 2 (Kreisliga A (Nord-Ost))
DESCRIPTION:SV Lichtenberg 47 4 - SV Blau-Weiß Petershagen 2 (Kreisliga A (Nord-Ost))
LOCATION:Sporthalle 2 der Grundschule unter dem Regenbogen , Murtzaner Ring 35/37, 12681, Berlin (Marzahn)
CLASS:PUBLIC
DTSTART:20260419T120000Z
DTEND:20260419T143000Z
DTSTAMP:20260420T083745Z
END:VEVENT
END:VCALENDAR

