BEGIN:VCALENDAR
VERSION:2.0
PRODID:https://BeTTV.tischtennislive.de
METHOD:PUBLISH
X-WR-CALNAME:TischtennisLive-Spieltermine
X-WR-TIMEZONE:Europe/Berlin
BEGIN:VEVENT
UID: W4S_96_989529
ORGANIZER;CN="Patricia Standke":MAILTO:NoReply@TischtennisLive.de
SUMMARY:SC Berlin 3 - SV Blau-Weiß Petershagen 2 (Kreisliga A (Nord-Ost))
DESCRIPTION:SC Berlin 3 - SV Blau-Weiß Petershagen 2 (Kreisliga A (Nord-Ost))
LOCATION:Sporthalle Wustrower Straße, Wustrower Straße 26, 13051, Berlin
CLASS:PUBLIC
DTSTART:20260320T183000Z
DTEND:20260320T210000Z
DTSTAMP:20260420T083717Z
END:VEVENT
END:VCALENDAR

