BEGIN:VCALENDAR
VERSION:2.0
PRODID:https://BeTTV.tischtennislive.de
METHOD:PUBLISH
X-WR-CALNAME:TischtennisLive-Spieltermine
X-WR-TIMEZONE:Europe/Berlin
BEGIN:VEVENT
UID: W4S_96_987879
ORGANIZER;CN="Stefan Fricke":MAILTO:NoReply@TischtennisLive.de
SUMMARY:TTC Lok Pankow 4 - SC Charlottenburg 6 (1. Kreisklasse C (Nord-West 1))
DESCRIPTION:TTC Lok Pankow 4 - SC Charlottenburg 6 (1. Kreisklasse C (Nord-West 1))
LOCATION:Max-Delbrück-Gymnasium, Kuckhoffstraße 2-22, 13156, Berlin (Pankow-Niederschönhausen)
CLASS:PUBLIC
DTSTART:20260318T183000Z
DTEND:20260318T210000Z
DTSTAMP:20260420T083717Z
END:VEVENT
END:VCALENDAR

