BEGIN:VCALENDAR
VERSION:2.0
PRODID:https://BeTTV.tischtennislive.de
METHOD:PUBLISH
X-WR-CALNAME:TischtennisLive-Spieltermine
X-WR-TIMEZONE:Europe/Berlin
BEGIN:VEVENT
UID: W4S_96_619239
ORGANIZER;CN="Thomas Brunner":MAILTO:NoReply@TischtennisLive.de
SUMMARY:VfB Hermsdorf 2 - SC Eintracht Berlin 3 (Pokal Herren C)
DESCRIPTION:VfB Hermsdorf 2 - SC Eintracht Berlin 3 (Pokal Herren C)
LOCATION:Gustav-Dreyer-GS, Freiherr-vom-Stein-Str. 31, 13467, Berlin-Reinickendorf 
CLASS:PUBLIC
DTSTART:20180902T220000Z
DTEND:20180903T003000Z
DTSTAMP:20260420T083147Z
END:VEVENT
BEGIN:VEVENT
UID: W4S_96_594754
ORGANIZER;CN="Jörg Kersten":MAILTO:NoReply@TischtennisLive.de
SUMMARY:VfB Hermsdorf 2 - SC Siemensstadt 4 (Herren, Kreisliga D (Nord-West))
DESCRIPTION:VfB Hermsdorf 2 - SC Siemensstadt 4 (Herren, Kreisliga D (Nord-West))
LOCATION:Gustav-Dreyer-GS, Freiherr-vom-Stein-Str. 31, 13467, Berlin-Reinickendorf 
CLASS:PUBLIC
DTSTART:20180907T170000Z
DTEND:20180907T193000Z
DTSTAMP:20260420T083147Z
END:VEVENT
BEGIN:VEVENT
UID: W4S_96_594758
ORGANIZER;CN="Jörg Kersten":MAILTO:NoReply@TischtennisLive.de
SUMMARY:TTC Heiligensee 2 - VfB Hermsdorf 2 (Herren, Kreisliga D (Nord-West))
DESCRIPTION:TTC Heiligensee 2 - VfB Hermsdorf 2 (Herren, Kreisliga D (Nord-West))
LOCATION:Otfried-Preußler-Grundschule, Schulzendorfer Str. 99, 13503, Berlin (Heiligensee)
CLASS:PUBLIC
DTSTART:20180911T170000Z
DTEND:20180911T193000Z
DTSTAMP:20260420T083147Z
END:VEVENT
BEGIN:VEVENT
UID: W4S_96_594764
ORGANIZER;CN="Jörg Kersten":MAILTO:NoReply@TischtennisLive.de
SUMMARY:VfB Hermsdorf 2 - SG Bergmann-Borsig 3 (Herren, Kreisliga D (Nord-West))
DESCRIPTION:VfB Hermsdorf 2 - SG Bergmann-Borsig 3 (Herren, Kreisliga D (Nord-West))
LOCATION:Gustav-Dreyer-GS, Freiherr-vom-Stein-Str. 31, 13467, Berlin-Reinickendorf 
CLASS:PUBLIC
DTSTART:20181005T170000Z
DTEND:20181005T193000Z
DTSTAMP:20260420T083147Z
END:VEVENT
BEGIN:VEVENT
UID: W4S_96_594774
ORGANIZER;CN="Jörg Kersten":MAILTO:NoReply@TischtennisLive.de
SUMMARY:VfB Hermsdorf 2 - CTTC 70 2 (Herren, Kreisliga D (Nord-West))
DESCRIPTION:VfB Hermsdorf 2 - CTTC 70 2 (Herren, Kreisliga D (Nord-West))
LOCATION:Gustav-Dreyer-GS, Freiherr-vom-Stein-Str. 31, 13467, Berlin-Reinickendorf 
CLASS:PUBLIC
DTSTART:20181012T170000Z
DTEND:20181012T193000Z
DTSTAMP:20260420T083147Z
END:VEVENT
BEGIN:VEVENT
UID: W4S_96_594769
ORGANIZER;CN="Jörg Kersten":MAILTO:NoReply@TischtennisLive.de
SUMMARY:TTC Borussia Spandau 4 - VfB Hermsdorf 2 (Herren, Kreisliga D (Nord-West))
DESCRIPTION:TTC Borussia Spandau 4 - VfB Hermsdorf 2 (Herren, Kreisliga D (Nord-West))
LOCATION:Halle der Ernst-Ludwig-Heim GS, Grunewaldstr. 8, 13597, Berlin
CLASS:PUBLIC
DTSTART:20181019T173000Z
DTEND:20181019T200000Z
DTSTAMP:20260420T083147Z
END:VEVENT
BEGIN:VEVENT
UID: W4S_96_594780
ORGANIZER;CN="Jörg Kersten":MAILTO:NoReply@TischtennisLive.de
SUMMARY:SC Charlottenburg 6 - VfB Hermsdorf 2 (Herren, Kreisliga D (Nord-West))
DESCRIPTION:SC Charlottenburg 6 - VfB Hermsdorf 2 (Herren, Kreisliga D (Nord-West))
LOCATION:Nehring-Grundschule, Nehringstr. 10, 14059, Berlin
CLASS:PUBLIC
DTSTART:20181109T181500Z
DTEND:20181109T204500Z
DTSTAMP:20260420T083147Z
END:VEVENT
BEGIN:VEVENT
UID: W4S_96_594785
ORGANIZER;CN="Jörg Kersten":MAILTO:NoReply@TischtennisLive.de
SUMMARY:Hertha BSC 8 - VfB Hermsdorf 2 (Herren, Kreisliga D (Nord-West))
DESCRIPTION:Hertha BSC 8 - VfB Hermsdorf 2 (Herren, Kreisliga D (Nord-West))
LOCATION:Ernst-Reuter-Schule, Bernauer-Str. 89, 13355, Berlin (Wedding)
CLASS:PUBLIC
DTSTART:20181115T180000Z
DTEND:20181115T203000Z
DTSTAMP:20260420T083147Z
END:VEVENT
BEGIN:VEVENT
UID: W4S_96_594790
ORGANIZER;CN="Jörg Kersten":MAILTO:NoReply@TischtennisLive.de
SUMMARY:VfB Hermsdorf 2 - DJK Blau-Weiß (Herren, Kreisliga D (Nord-West))
DESCRIPTION:VfB Hermsdorf 2 - DJK Blau-Weiß (Herren, Kreisliga D (Nord-West))
LOCATION:Gustav-Dreyer-GS, Freiherr-vom-Stein-Str. 31, 13467, Berlin-Reinickendorf 
CLASS:PUBLIC
DTSTART:20181123T180000Z
DTEND:20181123T203000Z
DTSTAMP:20260420T083147Z
END:VEVENT
BEGIN:VEVENT
UID: W4S_96_594792
ORGANIZER;CN="Jörg Kersten":MAILTO:NoReply@TischtennisLive.de
SUMMARY:Spandauer TTC 3 - VfB Hermsdorf 2 (Herren, Kreisliga D (Nord-West))
DESCRIPTION:Spandauer TTC 3 - VfB Hermsdorf 2 (Herren, Kreisliga D (Nord-West))
LOCATION:Turnhalle Kant-Gymnasium, Bismarckstr. 54 / Ecke Flankenschanze, 13585, Berlin
CLASS:PUBLIC
DTSTART:20181202T130000Z
DTEND:20181202T153000Z
DTSTAMP:20260420T083147Z
END:VEVENT
BEGIN:VEVENT
UID: W4S_96_594799
ORGANIZER;CN="Jörg Kersten":MAILTO:NoReply@TischtennisLive.de
SUMMARY:VfB Hermsdorf 2 - SC Siemensstadt 4 (Herren, Kreisliga D (Nord-West))
DESCRIPTION:VfB Hermsdorf 2 - SC Siemensstadt 4 (Herren, Kreisliga D (Nord-West))
LOCATION:Gustav-Dreyer-GS, Freiherr-vom-Stein-Str. 31, 13467, Berlin-Reinickendorf 
CLASS:PUBLIC
DTSTART:20190111T180000Z
DTEND:20190111T203000Z
DTSTAMP:20260420T083147Z
END:VEVENT
BEGIN:VEVENT
UID: W4S_96_594803
ORGANIZER;CN="Jörg Kersten":MAILTO:NoReply@TischtennisLive.de
SUMMARY:VfB Hermsdorf 2 - TTC Heiligensee 2 (Herren, Kreisliga D (Nord-West))
DESCRIPTION:VfB Hermsdorf 2 - TTC Heiligensee 2 (Herren, Kreisliga D (Nord-West))
LOCATION:Gustav-Dreyer-GS, Freiherr-vom-Stein-Str. 31, 13467, Berlin-Reinickendorf 
CLASS:PUBLIC
DTSTART:20190125T180000Z
DTEND:20190125T203000Z
DTSTAMP:20260420T083147Z
END:VEVENT
BEGIN:VEVENT
UID: W4S_96_594809
ORGANIZER;CN="Jörg Kersten":MAILTO:NoReply@TischtennisLive.de
SUMMARY:SG Bergmann-Borsig 3 - VfB Hermsdorf 2 (Herren, Kreisliga D (Nord-West))
DESCRIPTION:SG Bergmann-Borsig 3 - VfB Hermsdorf 2 (Herren, Kreisliga D (Nord-West))
LOCATION:Grundschule an den Buchen, Wilhelm - Wolff Str. 19, 13156, Berlin
CLASS:PUBLIC
DTSTART:20190213T181500Z
DTEND:20190213T204500Z
DTSTAMP:20260420T083147Z
END:VEVENT
BEGIN:VEVENT
UID: W4S_96_594814
ORGANIZER;CN="Jörg Kersten":MAILTO:NoReply@TischtennisLive.de
SUMMARY:TTC Borussia Spandau 4 - VfB Hermsdorf 2 (Herren, Kreisliga D (Nord-West))
DESCRIPTION:TTC Borussia Spandau 4 - VfB Hermsdorf 2 (Herren, Kreisliga D (Nord-West))
LOCATION:Halle der Ernst-Ludwig-Heim GS, Grunewaldstr. 8, 13597, Berlin
CLASS:PUBLIC
DTSTART:20190222T183000Z
DTEND:20190222T210000Z
DTSTAMP:20260420T083147Z
END:VEVENT
BEGIN:VEVENT
UID: W4S_96_594819
ORGANIZER;CN="Jörg Kersten":MAILTO:NoReply@TischtennisLive.de
SUMMARY:CTTC 70 2 - VfB Hermsdorf 2 (Herren, Kreisliga D (Nord-West))
DESCRIPTION:CTTC 70 2 - VfB Hermsdorf 2 (Herren, Kreisliga D (Nord-West))
LOCATION:Nehring-GS, Nehringstr. 8, 14059, Berlin
CLASS:PUBLIC
DTSTART:20190301T181500Z
DTEND:20190301T204500Z
DTSTAMP:20260420T083147Z
END:VEVENT
BEGIN:VEVENT
UID: W4S_96_594830
ORGANIZER;CN="Jörg Kersten":MAILTO:NoReply@TischtennisLive.de
SUMMARY:VfB Hermsdorf 2 - Hertha BSC 8 (Herren, Kreisliga D (Nord-West))
DESCRIPTION:VfB Hermsdorf 2 - Hertha BSC 8 (Herren, Kreisliga D (Nord-West))
LOCATION:Gustav-Dreyer-GS, Freiherr-vom-Stein-Str. 31, 13467, Berlin-Reinickendorf 
CLASS:PUBLIC
DTSTART:20190315T180000Z
DTEND:20190315T203000Z
DTSTAMP:20260420T083147Z
END:VEVENT
BEGIN:VEVENT
UID: W4S_96_594825
ORGANIZER;CN="Jörg Kersten":MAILTO:NoReply@TischtennisLive.de
SUMMARY:VfB Hermsdorf 2 - SC Charlottenburg 6 (Herren, Kreisliga D (Nord-West))
DESCRIPTION:VfB Hermsdorf 2 - SC Charlottenburg 6 (Herren, Kreisliga D (Nord-West))
LOCATION:Gustav-Dreyer-GS, Freiherr-vom-Stein-Str. 31, 13467, Berlin-Reinickendorf 
CLASS:PUBLIC
DTSTART:20190322T180000Z
DTEND:20190322T203000Z
DTSTAMP:20260420T083147Z
END:VEVENT
BEGIN:VEVENT
UID: W4S_96_594835
ORGANIZER;CN="Jörg Kersten":MAILTO:NoReply@TischtennisLive.de
SUMMARY:DJK Blau-Weiß - VfB Hermsdorf 2 (Herren, Kreisliga D (Nord-West))
DESCRIPTION:DJK Blau-Weiß - VfB Hermsdorf 2 (Herren, Kreisliga D (Nord-West))
LOCATION:Carl-Bolle-Grundschule, Waldenser Str. 20/21, 10551, Berlin
CLASS:PUBLIC
DTSTART:20190331T080000Z
DTEND:20190331T103000Z
DTSTAMP:20260420T083147Z
END:VEVENT
BEGIN:VEVENT
UID: W4S_96_594837
ORGANIZER;CN="Jörg Kersten":MAILTO:NoReply@TischtennisLive.de
SUMMARY:VfB Hermsdorf 2 - Spandauer TTC 3 (Herren, Kreisliga D (Nord-West))
DESCRIPTION:VfB Hermsdorf 2 - Spandauer TTC 3 (Herren, Kreisliga D (Nord-West))
LOCATION:Gustav-Dreyer-GS, Freiherr-vom-Stein-Str. 31, 13467, Berlin-Reinickendorf 
CLASS:PUBLIC
DTSTART:20190405T170000Z
DTEND:20190405T193000Z
DTSTAMP:20260420T083147Z
END:VEVENT
END:VCALENDAR

