BEGIN:VCALENDAR
VERSION:2.0
PRODID:https://BeTTV.tischtennislive.de
METHOD:PUBLISH
X-WR-CALNAME:TischtennisLive-Spieltermine
X-WR-TIMEZONE:Europe/Berlin
BEGIN:VEVENT
UID: W4S_96_982845
ORGANIZER;CN="Daniela Standke":MAILTO:NoReply@TischtennisLive.de
SUMMARY:TSV Marienfelde 2 - SV Berl. Brauereien 2 (Damen, Kreisklasse B)
DESCRIPTION:TSV Marienfelde 2 - SV Berl. Brauereien 2 (Damen, Kreisklasse B)
LOCATION:Marienfelder-GS 2, Tirschenreuther Ring 69, 12279, Berlin
CLASS:PUBLIC
DTSTART:20250921T120000Z
DTEND:20250921T143000Z
DTSTAMP:20260420T083233Z
END:VEVENT
BEGIN:VEVENT
UID: W4S_96_982857
ORGANIZER;CN="Daniela Standke":MAILTO:NoReply@TischtennisLive.de
SUMMARY:TTC Borussia Spandau - SV Berl. Brauereien 2 (Damen, Kreisklasse B)
DESCRIPTION:TTC Borussia Spandau - SV Berl. Brauereien 2 (Damen, Kreisklasse B)
LOCATION:Halle der Ernst-Ludwig-Heim GS, Grunewaldstr. 8, 13597, Berlin
CLASS:PUBLIC
DTSTART:20250922T173000Z
DTEND:20250922T200000Z
DTSTAMP:20260420T083233Z
END:VEVENT
BEGIN:VEVENT
UID: W4S_96_982861
ORGANIZER;CN="Daniela Standke":MAILTO:NoReply@TischtennisLive.de
SUMMARY:SV Berl. Brauereien 2 - Charlottenburger TSV 2 (Damen, Kreisklasse B)
DESCRIPTION:SV Berl. Brauereien 2 - Charlottenburger TSV 2 (Damen, Kreisklasse B)
LOCATION:Sporthalle GS an der Marie, Winsstraße 50, 10405, Berlin
CLASS:PUBLIC
DTSTART:20251007T170000Z
DTEND:20251007T193000Z
DTSTAMP:20260420T083233Z
END:VEVENT
BEGIN:VEVENT
UID: W4S_96_982843
ORGANIZER;CN="Daniela Standke":MAILTO:NoReply@TischtennisLive.de
SUMMARY:SV Berl. Brauereien 2 - SC Siemensstadt 2 (Damen, Kreisklasse B)
DESCRIPTION:SV Berl. Brauereien 2 - SC Siemensstadt 2 (Damen, Kreisklasse B)
LOCATION:Sporthalle GS an der Marie, Winsstraße 50, 10405, Berlin
CLASS:PUBLIC
DTSTART:20251013T173000Z
DTEND:20251013T200000Z
DTSTAMP:20260420T083233Z
END:VEVENT
BEGIN:VEVENT
UID: W4S_96_982864
ORGANIZER;CN="Daniela Standke":MAILTO:NoReply@TischtennisLive.de
SUMMARY:Olympischer SC 2 - SV Berl. Brauereien 2 (Damen, Kreisklasse B)
DESCRIPTION:Olympischer SC 2 - SV Berl. Brauereien 2 (Damen, Kreisklasse B)
LOCATION:Löcknitz-Grundschule, Münchener Str. 34-37, 10779, Berlin (Schöneberg)
CLASS:PUBLIC
DTSTART:20251017T171000Z
DTEND:20251017T194000Z
DTSTAMP:20260420T083233Z
END:VEVENT
BEGIN:VEVENT
UID: W4S_96_982870
ORGANIZER;CN="Daniela Standke":MAILTO:NoReply@TischtennisLive.de
SUMMARY:SV Berl. Brauereien 2 - TTC Südost 2 (Damen, Kreisklasse B)
DESCRIPTION:SV Berl. Brauereien 2 - TTC Südost 2 (Damen, Kreisklasse B)
LOCATION:Sporthalle GS an der Marie, Winsstraße 50, 10405, Berlin
CLASS:PUBLIC
DTSTART:20251104T180000Z
DTEND:20251104T203000Z
DTSTAMP:20260420T083233Z
END:VEVENT
BEGIN:VEVENT
UID: W4S_96_982876
ORGANIZER;CN="Daniela Standke":MAILTO:NoReply@TischtennisLive.de
SUMMARY:TTV Preußen 90 2 - SV Berl. Brauereien 2 (Damen, Kreisklasse B)
DESCRIPTION:TTV Preußen 90 2 - SV Berl. Brauereien 2 (Damen, Kreisklasse B)
LOCATION:34. Grundschule, Scharnweberstr. 19, 10247, Berlin
CLASS:PUBLIC
DTSTART:20251107T183000Z
DTEND:20251107T210000Z
DTSTAMP:20260420T083233Z
END:VEVENT
BEGIN:VEVENT
UID: W4S_96_982852
ORGANIZER;CN="Daniela Standke":MAILTO:NoReply@TischtennisLive.de
SUMMARY:SV Berl. Brauereien 2 - TuS Lichterfelde 2 (Damen, Kreisklasse B)
DESCRIPTION:SV Berl. Brauereien 2 - TuS Lichterfelde 2 (Damen, Kreisklasse B)
LOCATION:Sporthalle GS an der Marie, Winsstraße 50, 10405, Berlin
CLASS:PUBLIC
DTSTART:20251117T180000Z
DTEND:20251117T203000Z
DTSTAMP:20260420T083233Z
END:VEVENT
BEGIN:VEVENT
UID: W4S_96_982879
ORGANIZER;CN="Daniela Standke":MAILTO:NoReply@TischtennisLive.de
SUMMARY:SV Berl. Brauereien 2 - Steglitzer TTK 3 (Damen, Kreisklasse B)
DESCRIPTION:SV Berl. Brauereien 2 - Steglitzer TTK 3 (Damen, Kreisklasse B)
LOCATION:Sporthalle GS an der Marie, Winsstraße 50, 10405, Berlin
CLASS:PUBLIC
DTSTART:20251118T180000Z
DTEND:20251118T203000Z
DTSTAMP:20260420T083233Z
END:VEVENT
BEGIN:VEVENT
UID: W4S_96_982888
ORGANIZER;CN="Daniela Standke":MAILTO:NoReply@TischtennisLive.de
SUMMARY:SV Bau-Union 2 - SV Berl. Brauereien 2 (Damen, Kreisklasse B)
DESCRIPTION:SV Bau-Union 2 - SV Berl. Brauereien 2 (Damen, Kreisklasse B)
LOCATION:Sporthalle der Schule, Allee der Kosmonauten 22, 10315, Berlin
CLASS:PUBLIC
DTSTART:20251126T180000Z
DTEND:20251126T203000Z
DTSTAMP:20260420T083233Z
END:VEVENT
BEGIN:VEVENT
UID: W4S_96_989964
ORGANIZER;CN="Daniela Standke":MAILTO:NoReply@TischtennisLive.de
SUMMARY:SC Siemensstadt 2 - SV Berl. Brauereien 2 (Damen, Kreisklasse B)
DESCRIPTION:SC Siemensstadt 2 - SV Berl. Brauereien 2 (Damen, Kreisklasse B)
LOCATION:Robert-Reinick-Grundschule, Jungfernheideweg 32-48, 13629, Berlin (Siemensstadt)
CLASS:PUBLIC
DTSTART:20260114T181500Z
DTEND:20260114T204500Z
DTSTAMP:20260420T083233Z
END:VEVENT
BEGIN:VEVENT
UID: W4S_96_989966
ORGANIZER;CN="Daniela Standke":MAILTO:NoReply@TischtennisLive.de
SUMMARY:SV Berl. Brauereien 2 - TSV Marienfelde 2 (Damen, Kreisklasse B)
DESCRIPTION:SV Berl. Brauereien 2 - TSV Marienfelde 2 (Damen, Kreisklasse B)
LOCATION:Sporthalle GS an der Marie, Winsstraße 50, 10405, Berlin
CLASS:PUBLIC
DTSTART:20260119T180000Z
DTEND:20260119T203000Z
DTSTAMP:20260420T083233Z
END:VEVENT
BEGIN:VEVENT
UID: W4S_96_989973
ORGANIZER;CN="Daniela Standke":MAILTO:NoReply@TischtennisLive.de
SUMMARY:TuS Lichterfelde 2 - SV Berl. Brauereien 2 (Damen, Kreisklasse B)
DESCRIPTION:TuS Lichterfelde 2 - SV Berl. Brauereien 2 (Damen, Kreisklasse B)
LOCATION:Grundschule am Karpfenteich, Hildburghauser Str. 135-145, 12209, Berlin
CLASS:PUBLIC
DTSTART:20260208T150000Z
DTEND:20260208T173000Z
DTSTAMP:20260420T083233Z
END:VEVENT
BEGIN:VEVENT
UID: W4S_96_989978
ORGANIZER;CN="Daniela Standke":MAILTO:NoReply@TischtennisLive.de
SUMMARY:SV Berl. Brauereien 2 - TTC Borussia Spandau (Damen, Kreisklasse B)
DESCRIPTION:SV Berl. Brauereien 2 - TTC Borussia Spandau (Damen, Kreisklasse B)
LOCATION:Sporthalle GS an der Marie, Winsstraße 50, 10405, Berlin
CLASS:PUBLIC
DTSTART:20260209T180000Z
DTEND:20260209T203000Z
DTSTAMP:20260420T083233Z
END:VEVENT
BEGIN:VEVENT
UID: W4S_96_989982
ORGANIZER;CN="Daniela Standke":MAILTO:NoReply@TischtennisLive.de
SUMMARY:Charlottenburger TSV 2 - SV Berl. Brauereien 2 (Damen, Kreisklasse B)
DESCRIPTION:Charlottenburger TSV 2 - SV Berl. Brauereien 2 (Damen, Kreisklasse B)
LOCATION:Gottfried-Keller-Gymnasium, Kamminer Strasse 17, 10589, Berlin
CLASS:PUBLIC
DTSTART:20260222T093000Z
DTEND:20260222T120000Z
DTSTAMP:20260420T083233Z
END:VEVENT
BEGIN:VEVENT
UID: W4S_96_989985
ORGANIZER;CN="Daniela Standke":MAILTO:NoReply@TischtennisLive.de
SUMMARY:SV Berl. Brauereien 2 - Olympischer SC 2 (Damen, Kreisklasse B)
DESCRIPTION:SV Berl. Brauereien 2 - Olympischer SC 2 (Damen, Kreisklasse B)
LOCATION:Sporthalle GS an der Marie, Winsstraße 50, 10405, Berlin
CLASS:PUBLIC
DTSTART:20260302T180000Z
DTEND:20260302T203000Z
DTSTAMP:20260420T083233Z
END:VEVENT
BEGIN:VEVENT
UID: W4S_96_989991
ORGANIZER;CN="Daniela Standke":MAILTO:NoReply@TischtennisLive.de
SUMMARY:TTC Südost 2 - SV Berl. Brauereien 2 (Damen, Kreisklasse B)
DESCRIPTION:TTC Südost 2 - SV Berl. Brauereien 2 (Damen, Kreisklasse B)
LOCATION:Sporthalle Fanny-Hensel-Grundschule, Schöneberger Str. 23, 10963, Berlin
CLASS:PUBLIC
DTSTART:20260309T180000Z
DTEND:20260309T203000Z
DTSTAMP:20260420T083233Z
END:VEVENT
BEGIN:VEVENT
UID: W4S_96_989997
ORGANIZER;CN="Daniela Standke":MAILTO:NoReply@TischtennisLive.de
SUMMARY:SV Berl. Brauereien 2 - TTV Preußen 90 2 (Damen, Kreisklasse B)
DESCRIPTION:SV Berl. Brauereien 2 - TTV Preußen 90 2 (Damen, Kreisklasse B)
LOCATION:Sporthalle GS an der Marie, Winsstraße 50, 10405, Berlin
CLASS:PUBLIC
DTSTART:20260330T170000Z
DTEND:20260330T193000Z
DTSTAMP:20260420T083233Z
END:VEVENT
BEGIN:VEVENT
UID: W4S_96_990000
ORGANIZER;CN="Daniela Standke":MAILTO:NoReply@TischtennisLive.de
SUMMARY:Steglitzer TTK 3 - SV Berl. Brauereien 2 (Damen, Kreisklasse B)
DESCRIPTION:Steglitzer TTK 3 - SV Berl. Brauereien 2 (Damen, Kreisklasse B)
LOCATION:Sporthallen Gymnasium Steglitz, Heesestr.15, 12169, Berlin (Steglitz)
CLASS:PUBLIC
DTSTART:20260410T170000Z
DTEND:20260410T193000Z
DTSTAMP:20260420T083233Z
END:VEVENT
BEGIN:VEVENT
UID: W4S_96_990009
ORGANIZER;CN="Daniela Standke":MAILTO:NoReply@TischtennisLive.de
SUMMARY:SV Berl. Brauereien 2 - SV Bau-Union 2 (Damen, Kreisklasse B)
DESCRIPTION:SV Berl. Brauereien 2 - SV Bau-Union 2 (Damen, Kreisklasse B)
LOCATION:Sporthalle GS an der Marie, Winsstraße 50, 10405, Berlin
CLASS:PUBLIC
DTSTART:20260413T170000Z
DTEND:20260413T193000Z
DTSTAMP:20260420T083233Z
END:VEVENT
END:VCALENDAR

