BEGIN:VCALENDAR
VERSION:2.0
PRODID:https://BeTTV.tischtennislive.de
METHOD:PUBLISH
X-WR-CALNAME:TischtennisLive-Spieltermine
X-WR-TIMEZONE:Europe/Berlin
BEGIN:VEVENT
UID: W4S_96_982853
ORGANIZER;CN="Daniela Standke":MAILTO:NoReply@TischtennisLive.de
SUMMARY:SC Siemensstadt 2 - TSV Marienfelde 2 (Damen, Kreisklasse B)
DESCRIPTION:SC Siemensstadt 2 - TSV Marienfelde 2 (Damen, Kreisklasse B)
LOCATION:Robert-Reinick-Grundschule, Jungfernheideweg 32-48, 13629, Berlin (Siemensstadt)
CLASS:PUBLIC
DTSTART:20250924T171500Z
DTEND:20250924T194500Z
DTSTAMP:20260421T083215Z
END:VEVENT
BEGIN:VEVENT
UID: W4S_96_982856
ORGANIZER;CN="Daniela Standke":MAILTO:NoReply@TischtennisLive.de
SUMMARY:TuS Lichterfelde 2 - SC Siemensstadt 2 (Damen, Kreisklasse B)
DESCRIPTION:TuS Lichterfelde 2 - SC Siemensstadt 2 (Damen, Kreisklasse B)
LOCATION:Grundschule am Karpfenteich, Hildburghauser Str. 135-145, 12209, Berlin
CLASS:PUBLIC
DTSTART:20251005T140000Z
DTEND:20251005T163000Z
DTSTAMP:20260421T083215Z
END:VEVENT
BEGIN:VEVENT
UID: W4S_96_982862
ORGANIZER;CN="Daniela Standke":MAILTO:NoReply@TischtennisLive.de
SUMMARY:SC Siemensstadt 2 - TTC Borussia Spandau (Damen, Kreisklasse B)
DESCRIPTION:SC Siemensstadt 2 - TTC Borussia Spandau (Damen, Kreisklasse B)
LOCATION:Robert-Reinick-Grundschule, Jungfernheideweg 32-48, 13629, Berlin (Siemensstadt)
CLASS:PUBLIC
DTSTART:20251008T171500Z
DTEND:20251008T194500Z
DTSTAMP:20260421T083215Z
END:VEVENT
BEGIN:VEVENT
UID: W4S_96_982843
ORGANIZER;CN="Daniela Standke":MAILTO:NoReply@TischtennisLive.de
SUMMARY:SV Berl. Brauereien 2 - SC Siemensstadt 2 (Damen, Kreisklasse B)
DESCRIPTION:SV Berl. Brauereien 2 - SC Siemensstadt 2 (Damen, Kreisklasse B)
LOCATION:Sporthalle GS an der Marie, Winsstraße 50, 10405, Berlin
CLASS:PUBLIC
DTSTART:20251013T173000Z
DTEND:20251013T200000Z
DTSTAMP:20260421T083215Z
END:VEVENT
BEGIN:VEVENT
UID: W4S_96_982868
ORGANIZER;CN="Daniela Standke":MAILTO:NoReply@TischtennisLive.de
SUMMARY:Charlottenburger TSV 2 - SC Siemensstadt 2 (Damen, Kreisklasse B)
DESCRIPTION:Charlottenburger TSV 2 - SC Siemensstadt 2 (Damen, Kreisklasse B)
LOCATION:Gottfried-Keller-Gymnasium, Kamminer Strasse 17, 10589, Berlin
CLASS:PUBLIC
DTSTART:20251019T083000Z
DTEND:20251019T110000Z
DTSTAMP:20260421T083215Z
END:VEVENT
BEGIN:VEVENT
UID: W4S_96_982871
ORGANIZER;CN="Daniela Standke":MAILTO:NoReply@TischtennisLive.de
SUMMARY:SC Siemensstadt 2 - Olympischer SC 2 (Damen, Kreisklasse B)
DESCRIPTION:SC Siemensstadt 2 - Olympischer SC 2 (Damen, Kreisklasse B)
LOCATION:Robert-Reinick-Grundschule, Jungfernheideweg 32-48, 13629, Berlin (Siemensstadt)
CLASS:PUBLIC
DTSTART:20251105T181500Z
DTEND:20251105T204500Z
DTSTAMP:20260421T083215Z
END:VEVENT
BEGIN:VEVENT
UID: W4S_96_982875
ORGANIZER;CN="Daniela Standke":MAILTO:NoReply@TischtennisLive.de
SUMMARY:TTC Südost 2 - SC Siemensstadt 2 (Damen, Kreisklasse B)
DESCRIPTION:TTC Südost 2 - SC Siemensstadt 2 (Damen, Kreisklasse B)
LOCATION:Sporthalle Fanny-Hensel-Grundschule, Schöneberger Str. 23, 10963, Berlin
CLASS:PUBLIC
DTSTART:20251110T180000Z
DTEND:20251110T203000Z
DTSTAMP:20260421T083215Z
END:VEVENT
BEGIN:VEVENT
UID: W4S_96_982880
ORGANIZER;CN="Daniela Standke":MAILTO:NoReply@TischtennisLive.de
SUMMARY:SC Siemensstadt 2 - TTV Preußen 90 2 (Damen, Kreisklasse B)
DESCRIPTION:SC Siemensstadt 2 - TTV Preußen 90 2 (Damen, Kreisklasse B)
LOCATION:Robert-Reinick-Grundschule, Jungfernheideweg 32-48, 13629, Berlin (Siemensstadt)
CLASS:PUBLIC
DTSTART:20251119T181500Z
DTEND:20251119T204500Z
DTSTAMP:20260421T083215Z
END:VEVENT
BEGIN:VEVENT
UID: W4S_96_982887
ORGANIZER;CN="Daniela Standke":MAILTO:NoReply@TischtennisLive.de
SUMMARY:Steglitzer TTK 3 - SC Siemensstadt 2 (Damen, Kreisklasse B)
DESCRIPTION:Steglitzer TTK 3 - SC Siemensstadt 2 (Damen, Kreisklasse B)
LOCATION:Sporthallen Gymnasium Steglitz, Heesestr.15, 12169, Berlin (Steglitz)
CLASS:PUBLIC
DTSTART:20251130T120000Z
DTEND:20251130T143000Z
DTSTAMP:20260421T083215Z
END:VEVENT
BEGIN:VEVENT
UID: W4S_96_982889
ORGANIZER;CN="Daniela Standke":MAILTO:NoReply@TischtennisLive.de
SUMMARY:SC Siemensstadt 2 - SV Bau-Union 2 (Damen, Kreisklasse B)
DESCRIPTION:SC Siemensstadt 2 - SV Bau-Union 2 (Damen, Kreisklasse B)
LOCATION:Robert-Reinick-Grundschule, Jungfernheideweg 32-48, 13629, Berlin (Siemensstadt)
CLASS:PUBLIC
DTSTART:20251203T181500Z
DTEND:20251203T204500Z
DTSTAMP:20260421T083215Z
END:VEVENT
BEGIN:VEVENT
UID: W4S_96_989964
ORGANIZER;CN="Daniela Standke":MAILTO:NoReply@TischtennisLive.de
SUMMARY:SC Siemensstadt 2 - SV Berl. Brauereien 2 (Damen, Kreisklasse B)
DESCRIPTION:SC Siemensstadt 2 - SV Berl. Brauereien 2 (Damen, Kreisklasse B)
LOCATION:Robert-Reinick-Grundschule, Jungfernheideweg 32-48, 13629, Berlin (Siemensstadt)
CLASS:PUBLIC
DTSTART:20260114T181500Z
DTEND:20260114T204500Z
DTSTAMP:20260421T083215Z
END:VEVENT
BEGIN:VEVENT
UID: W4S_96_989974
ORGANIZER;CN="Daniela Standke":MAILTO:NoReply@TischtennisLive.de
SUMMARY:TSV Marienfelde 2 - SC Siemensstadt 2 (Damen, Kreisklasse B)
DESCRIPTION:TSV Marienfelde 2 - SC Siemensstadt 2 (Damen, Kreisklasse B)
LOCATION:Marienfelder-GS 2, Tirschenreuther Ring 69, 12279, Berlin
CLASS:PUBLIC
DTSTART:20260201T130000Z
DTEND:20260201T153000Z
DTSTAMP:20260421T083215Z
END:VEVENT
BEGIN:VEVENT
UID: W4S_96_989977
ORGANIZER;CN="Daniela Standke":MAILTO:NoReply@TischtennisLive.de
SUMMARY:SC Siemensstadt 2 - TuS Lichterfelde 2 (Damen, Kreisklasse B)
DESCRIPTION:SC Siemensstadt 2 - TuS Lichterfelde 2 (Damen, Kreisklasse B)
LOCATION:Robert-Reinick-Grundschule, Jungfernheideweg 32-48, 13629, Berlin (Siemensstadt)
CLASS:PUBLIC
DTSTART:20260211T181500Z
DTEND:20260211T204500Z
DTSTAMP:20260421T083215Z
END:VEVENT
BEGIN:VEVENT
UID: W4S_96_989983
ORGANIZER;CN="Daniela Standke":MAILTO:NoReply@TischtennisLive.de
SUMMARY:TTC Borussia Spandau - SC Siemensstadt 2 (Damen, Kreisklasse B)
DESCRIPTION:TTC Borussia Spandau - SC Siemensstadt 2 (Damen, Kreisklasse B)
LOCATION:Halle der Ernst-Ludwig-Heim GS, Grunewaldstr. 8, 13597, Berlin
CLASS:PUBLIC
DTSTART:20260216T183000Z
DTEND:20260216T210000Z
DTSTAMP:20260421T083215Z
END:VEVENT
BEGIN:VEVENT
UID: W4S_96_989989
ORGANIZER;CN="Daniela Standke":MAILTO:NoReply@TischtennisLive.de
SUMMARY:SC Siemensstadt 2 - Charlottenburger TSV 2 (Damen, Kreisklasse B)
DESCRIPTION:SC Siemensstadt 2 - Charlottenburger TSV 2 (Damen, Kreisklasse B)
LOCATION:Robert-Reinick-Grundschule, Jungfernheideweg 32-48, 13629, Berlin (Siemensstadt)
CLASS:PUBLIC
DTSTART:20260304T181500Z
DTEND:20260304T204500Z
DTSTAMP:20260421T083215Z
END:VEVENT
BEGIN:VEVENT
UID: W4S_96_989992
ORGANIZER;CN="Daniela Standke":MAILTO:NoReply@TischtennisLive.de
SUMMARY:Olympischer SC 2 - SC Siemensstadt 2 (Damen, Kreisklasse B)
DESCRIPTION:Olympischer SC 2 - SC Siemensstadt 2 (Damen, Kreisklasse B)
LOCATION:Löcknitz-Grundschule, Münchener Str. 34-37, 10779, Berlin (Schöneberg)
CLASS:PUBLIC
DTSTART:20260313T180000Z
DTEND:20260313T203000Z
DTSTAMP:20260421T083215Z
END:VEVENT
BEGIN:VEVENT
UID: W4S_96_989996
ORGANIZER;CN="Daniela Standke":MAILTO:NoReply@TischtennisLive.de
SUMMARY:SC Siemensstadt 2 - TTC Südost 2 (Damen, Kreisklasse B)
DESCRIPTION:SC Siemensstadt 2 - TTC Südost 2 (Damen, Kreisklasse B)
LOCATION:Robert-Reinick-Grundschule, Jungfernheideweg 32-48, 13629, Berlin (Siemensstadt)
CLASS:PUBLIC
DTSTART:20260318T181500Z
DTEND:20260318T204500Z
DTSTAMP:20260421T083215Z
END:VEVENT
BEGIN:VEVENT
UID: W4S_96_990001
ORGANIZER;CN="Daniela Standke":MAILTO:NoReply@TischtennisLive.de
SUMMARY:TTV Preußen 90 2 - SC Siemensstadt 2 (Damen, Kreisklasse B)
DESCRIPTION:TTV Preußen 90 2 - SC Siemensstadt 2 (Damen, Kreisklasse B)
LOCATION:34. Grundschule, Scharnweberstr. 19, 10247, Berlin
CLASS:PUBLIC
DTSTART:20260410T173000Z
DTEND:20260410T200000Z
DTSTAMP:20260421T083215Z
END:VEVENT
BEGIN:VEVENT
UID: W4S_96_990008
ORGANIZER;CN="Daniela Standke":MAILTO:NoReply@TischtennisLive.de
SUMMARY:SC Siemensstadt 2 - Steglitzer TTK 3 (Damen, Kreisklasse B)
DESCRIPTION:SC Siemensstadt 2 - Steglitzer TTK 3 (Damen, Kreisklasse B)
LOCATION:Robert-Reinick-Grundschule, Jungfernheideweg 32-48, 13629, Berlin (Siemensstadt)
CLASS:PUBLIC
DTSTART:20260415T171500Z
DTEND:20260415T194500Z
DTSTAMP:20260421T083215Z
END:VEVENT
BEGIN:VEVENT
UID: W4S_96_990010
ORGANIZER;CN="Daniela Standke":MAILTO:NoReply@TischtennisLive.de
SUMMARY:SV Bau-Union 2 - SC Siemensstadt 2 (Damen, Kreisklasse B)
DESCRIPTION:SV Bau-Union 2 - SC Siemensstadt 2 (Damen, Kreisklasse B)
LOCATION:Sporthalle der Schule, Allee der Kosmonauten 22, 10315, Berlin
CLASS:PUBLIC
DTSTART:20260422T170000Z
DTEND:20260422T193000Z
DTSTAMP:20260421T083215Z
END:VEVENT
END:VCALENDAR

