BEGIN:VCALENDAR
VERSION:2.0
PRODID:https://BeTTV.tischtennislive.de
METHOD:PUBLISH
X-WR-CALNAME:TischtennisLive-Spieltermine
X-WR-TIMEZONE:Europe/Berlin
BEGIN:VEVENT
UID: W4S_96_981401
ORGANIZER;CN="Patricia Standke":MAILTO:NoReply@TischtennisLive.de
SUMMARY:TTC Neukölln 8 - TTC Zehlendorf (Kreisliga B (Süd-West))
DESCRIPTION:TTC Neukölln 8 - TTC Zehlendorf (Kreisliga B (Süd-West))
LOCATION:Karlsgarten-Grundschule / Neue Hallen, Karlsgartenstr. 7 / Fontanestr, 12049, Berlin
CLASS:PUBLIC
DTSTART:20250910T170000Z
DTEND:20250910T193000Z
DTSTAMP:20260421T085646Z
END:VEVENT
BEGIN:VEVENT
UID: W4S_96_981409
ORGANIZER;CN="Patricia Standke":MAILTO:NoReply@TischtennisLive.de
SUMMARY:TuS Lichterfelde 6 - TTC Zehlendorf (Kreisliga B (Süd-West))
DESCRIPTION:TuS Lichterfelde 6 - TTC Zehlendorf (Kreisliga B (Süd-West))
LOCATION:Grundschule am Karpfenteich, Hildburghauser Str. 135-145, 12209, Berlin
CLASS:PUBLIC
DTSTART:20250925T170000Z
DTEND:20250925T193000Z
DTSTAMP:20260421T085646Z
END:VEVENT
BEGIN:VEVENT
UID: W4S_96_981415
ORGANIZER;CN="Patricia Standke":MAILTO:NoReply@TischtennisLive.de
SUMMARY:TTC Zehlendorf - Olympischer SC 6 (Kreisliga B (Süd-West))
DESCRIPTION:TTC Zehlendorf - Olympischer SC 6 (Kreisliga B (Süd-West))
LOCATION:Grundschule am Buschgraben, Ludwigsfelder Str. 43, 14165, Berlin-Zehlendorf
CLASS:PUBLIC
DTSTART:20251009T170000Z
DTEND:20251009T193000Z
DTSTAMP:20260421T085646Z
END:VEVENT
BEGIN:VEVENT
UID: W4S_96_981421
ORGANIZER;CN="Patricia Standke":MAILTO:NoReply@TischtennisLive.de
SUMMARY:TSV Marienfelde 2 - TTC Zehlendorf (Kreisliga B (Süd-West))
DESCRIPTION:TSV Marienfelde 2 - TTC Zehlendorf (Kreisliga B (Süd-West))
LOCATION:Marienfelder-GS 2, Tirschenreuther Ring 69, 12279, Berlin
CLASS:PUBLIC
DTSTART:20251019T150000Z
DTEND:20251019T173000Z
DTSTAMP:20260421T085646Z
END:VEVENT
BEGIN:VEVENT
UID: W4S_96_981406
ORGANIZER;CN="Patricia Standke":MAILTO:NoReply@TischtennisLive.de
SUMMARY:TTC Zehlendorf - BTTC Grün-Weiß (Kreisliga B (Süd-West))
DESCRIPTION:TTC Zehlendorf - BTTC Grün-Weiß (Kreisliga B (Süd-West))
LOCATION:Grundschule am Buschgraben, Ludwigsfelder Str. 43, 14165, Berlin-Zehlendorf
CLASS:PUBLIC
DTSTART:20251106T180000Z
DTEND:20251106T203000Z
DTSTAMP:20260421T085646Z
END:VEVENT
BEGIN:VEVENT
UID: W4S_96_981424
ORGANIZER;CN="Patricia Standke":MAILTO:NoReply@TischtennisLive.de
SUMMARY:TTC Zehlendorf - TSC Berlin 1893 4 (Kreisliga B (Süd-West))
DESCRIPTION:TTC Zehlendorf - TSC Berlin 1893 4 (Kreisliga B (Süd-West))
LOCATION:Grundschule am Buschgraben, Ludwigsfelder Str. 43, 14165, Berlin-Zehlendorf
CLASS:PUBLIC
DTSTART:20251113T180000Z
DTEND:20251113T203000Z
DTSTAMP:20260421T085646Z
END:VEVENT
BEGIN:VEVENT
UID: W4S_96_981432
ORGANIZER;CN="Patricia Standke":MAILTO:NoReply@TischtennisLive.de
SUMMARY:TTC Zehlendorf - Steglitzer TTK 8 (Kreisliga B (Süd-West))
DESCRIPTION:TTC Zehlendorf - Steglitzer TTK 8 (Kreisliga B (Süd-West))
LOCATION:Grundschule am Buschgraben, Ludwigsfelder Str. 43, 14165, Berlin-Zehlendorf
CLASS:PUBLIC
DTSTART:20251120T180000Z
DTEND:20251120T203000Z
DTSTAMP:20260421T085646Z
END:VEVENT
BEGIN:VEVENT
UID: W4S_96_981435
ORGANIZER;CN="Patricia Standke":MAILTO:NoReply@TischtennisLive.de
SUMMARY:Lichtenrader SC 3 - TTC Zehlendorf (Kreisliga B (Süd-West))
DESCRIPTION:Lichtenrader SC 3 - TTC Zehlendorf (Kreisliga B (Süd-West))
LOCATION:Annedore-Leber-Schule, Halker Zeile 149, 12305, Berlin (Lichtenrade)
CLASS:PUBLIC
DTSTART:20251128T183000Z
DTEND:20251128T210000Z
DTSTAMP:20260421T085646Z
END:VEVENT
BEGIN:VEVENT
UID: W4S_96_981442
ORGANIZER;CN="Patricia Standke":MAILTO:NoReply@TischtennisLive.de
SUMMARY:TTC Zehlendorf - TSV Temp.-Mariendorf (Kreisliga B (Süd-West))
DESCRIPTION:TTC Zehlendorf - TSV Temp.-Mariendorf (Kreisliga B (Süd-West))
LOCATION:Grundschule am Buschgraben, Ludwigsfelder Str. 43, 14165, Berlin-Zehlendorf
CLASS:PUBLIC
DTSTART:20251204T180000Z
DTEND:20251204T203000Z
DTSTAMP:20260421T085646Z
END:VEVENT
BEGIN:VEVENT
UID: W4S_96_989547
ORGANIZER;CN="Patricia Standke":MAILTO:NoReply@TischtennisLive.de
SUMMARY:TTC Zehlendorf - TTC Neukölln 8 (Kreisliga B (Süd-West))
DESCRIPTION:TTC Zehlendorf - TTC Neukölln 8 (Kreisliga B (Süd-West))
LOCATION:Grundschule am Buschgraben, Ludwigsfelder Str. 43, 14165, Berlin-Zehlendorf
CLASS:PUBLIC
DTSTART:20260115T180000Z
DTEND:20260115T203000Z
DTSTAMP:20260421T085646Z
END:VEVENT
BEGIN:VEVENT
UID: W4S_96_989552
ORGANIZER;CN="Patricia Standke":MAILTO:NoReply@TischtennisLive.de
SUMMARY:BTTC Grün-Weiß - TTC Zehlendorf (Kreisliga B (Süd-West))
DESCRIPTION:BTTC Grün-Weiß - TTC Zehlendorf (Kreisliga B (Süd-West))
LOCATION:Bröndby Schule - SIBUZ Berlin, Dessauer Str. 49-55, 12249, Berlin Lankwitz
CLASS:PUBLIC
DTSTART:20260119T181500Z
DTEND:20260119T204500Z
DTSTAMP:20260421T085646Z
END:VEVENT
BEGIN:VEVENT
UID: W4S_96_989555
ORGANIZER;CN="Patricia Standke":MAILTO:NoReply@TischtennisLive.de
SUMMARY:TTC Zehlendorf - TuS Lichterfelde 6 (Kreisliga B (Süd-West))
DESCRIPTION:TTC Zehlendorf - TuS Lichterfelde 6 (Kreisliga B (Süd-West))
LOCATION:Grundschule am Buschgraben, Ludwigsfelder Str. 43, 14165, Berlin-Zehlendorf
CLASS:PUBLIC
DTSTART:20260129T180000Z
DTEND:20260129T203000Z
DTSTAMP:20260421T085646Z
END:VEVENT
BEGIN:VEVENT
UID: W4S_96_989561
ORGANIZER;CN="Patricia Standke":MAILTO:NoReply@TischtennisLive.de
SUMMARY:Olympischer SC 6 - TTC Zehlendorf (Kreisliga B (Süd-West))
DESCRIPTION:Olympischer SC 6 - TTC Zehlendorf (Kreisliga B (Süd-West))
LOCATION:Löcknitz-Grundschule, Münchener Str. 34-37, 10779, Berlin (Schöneberg)
CLASS:PUBLIC
DTSTART:20260215T130000Z
DTEND:20260215T153000Z
DTSTAMP:20260421T085646Z
END:VEVENT
BEGIN:VEVENT
UID: W4S_96_989567
ORGANIZER;CN="Patricia Standke":MAILTO:NoReply@TischtennisLive.de
SUMMARY:TTC Zehlendorf - TSV Marienfelde 2 (Kreisliga B (Süd-West))
DESCRIPTION:TTC Zehlendorf - TSV Marienfelde 2 (Kreisliga B (Süd-West))
LOCATION:Grundschule am Buschgraben, Ludwigsfelder Str. 43, 14165, Berlin-Zehlendorf
CLASS:PUBLIC
DTSTART:20260219T180000Z
DTEND:20260219T203000Z
DTSTAMP:20260421T085646Z
END:VEVENT
BEGIN:VEVENT
UID: W4S_96_989570
ORGANIZER;CN="Patricia Standke":MAILTO:NoReply@TischtennisLive.de
SUMMARY:TSC Berlin 1893 4 - TTC Zehlendorf (Kreisliga B (Süd-West))
DESCRIPTION:TSC Berlin 1893 4 - TTC Zehlendorf (Kreisliga B (Süd-West))
LOCATION:Oskar-Heinroth-Grundschule, hintere Halle, Rohrdommelweg 1, Eingang Kleiberweg, 12359, Berlin (Britz)
CLASS:PUBLIC
DTSTART:20260317T183000Z
DTEND:20260317T210000Z
DTSTAMP:20260421T085646Z
END:VEVENT
BEGIN:VEVENT
UID: W4S_96_989578
ORGANIZER;CN="Patricia Standke":MAILTO:NoReply@TischtennisLive.de
SUMMARY:Steglitzer TTK 8 - TTC Zehlendorf (Kreisliga B (Süd-West))
DESCRIPTION:Steglitzer TTK 8 - TTC Zehlendorf (Kreisliga B (Süd-West))
LOCATION:Sporthallen Gymnasium Steglitz, Heesestr.15, 12169, Berlin (Steglitz)
CLASS:PUBLIC
DTSTART:20260323T180000Z
DTEND:20260323T203000Z
DTSTAMP:20260421T085646Z
END:VEVENT
BEGIN:VEVENT
UID: W4S_96_989581
ORGANIZER;CN="Patricia Standke":MAILTO:NoReply@TischtennisLive.de
SUMMARY:TTC Zehlendorf - Lichtenrader SC 3 (Kreisliga B (Süd-West))
DESCRIPTION:TTC Zehlendorf - Lichtenrader SC 3 (Kreisliga B (Süd-West))
LOCATION:Grundschule am Buschgraben, Ludwigsfelder Str. 43, 14165, Berlin-Zehlendorf
CLASS:PUBLIC
DTSTART:20260416T170000Z
DTEND:20260416T193000Z
DTSTAMP:20260421T085646Z
END:VEVENT
BEGIN:VEVENT
UID: W4S_96_989588
ORGANIZER;CN="Patricia Standke":MAILTO:NoReply@TischtennisLive.de
SUMMARY:TSV Temp.-Mariendorf - TTC Zehlendorf (Kreisliga B (Süd-West))
DESCRIPTION:TSV Temp.-Mariendorf - TTC Zehlendorf (Kreisliga B (Süd-West))
LOCATION:Mascha-Koleko GS (ehem. Ludwig-Heck GS), Königstraße 32, 12105, Berlin
CLASS:PUBLIC
DTSTART:20260420T173000Z
DTEND:20260420T200000Z
DTSTAMP:20260421T085646Z
END:VEVENT
END:VCALENDAR

