BEGIN:VCALENDAR
VERSION:2.0
PRODID:https://BeTTV.tischtennislive.de
METHOD:PUBLISH
X-WR-CALNAME:TischtennisLive-Spieltermine
X-WR-TIMEZONE:Europe/Berlin
BEGIN:VEVENT
UID: W4S_96_952063
ORGANIZER;CN="Joachim Klein":MAILTO:NoReply@TischtennisLive.de
SUMMARY:BSV A. d. Wissenschaften 7 - ASV Berlin 7 (Pokal Herren D)
DESCRIPTION:BSV A. d. Wissenschaften 7 - ASV Berlin 7 (Pokal Herren D)
LOCATION:Sophie - Brahe- Schule (Gemeinschaftsschule), Am Plänterwald 17, 12435, Berlin
CLASS:PUBLIC
DTSTART:20241218T183000Z
DTEND:20241218T210000Z
DTSTAMP:20260423T082152Z
END:VEVENT
END:VCALENDAR

